BEGIN:VCALENDAR
VERSION:2.0
PRODID:-//Plone.org//NONSGML plone.app.event//EN
X-WR-TIMEZONE:Brazil/East
BEGIN:VEVENT
SUMMARY:1º Ano do Site
DTSTART;TZID=Brazil/East;VALUE=DATE-TIME:20260328T000000
DTEND;TZID=Brazil/East;VALUE=DATE-TIME:20260328T235959
DTSTAMP;VALUE=DATE-TIME:20260424T022730Z
UID:e9c749c6c0a9472b989bfac18722df4d
CREATED;VALUE=DATE-TIME:20250328T141350Z
DESCRIPTION:Aniversário de primeiro ano do site desta Casa Legislativa. (
 este evento é um conteúdo de exemplo e pode ser removido)
LAST-MODIFIED;VALUE=DATE-TIME:20250328T141400Z
URL:https://www.pontealtadonorte.sc.leg.br/institucional/eventos/1o-ano-do
 -site
END:VEVENT
BEGIN:VEVENT
SUMMARY:Convenção MDB
DTSTART;TZID=Brazil/East;VALUE=DATE-TIME:20250515T190000
DTEND;TZID=Brazil/East;VALUE=DATE-TIME:20250515T203000
DTSTAMP;VALUE=DATE-TIME:20260424T022730Z
UID:3d1fae74289e4ca991fa25a66555428d@www.pontealtadonorte.sc.leg.br
CREATED;VALUE=DATE-TIME:20250512T124838Z
DESCRIPTION:Convenção Ordinária do MDB
LAST-MODIFIED;VALUE=DATE-TIME:20250512T125102Z
URL:https://www.pontealtadonorte.sc.leg.br/institucional/eventos/convencao
 -mdb
END:VEVENT
BEGIN:VEVENT
SUMMARY:Sessão da Câmara Municipal
DTSTART;TZID=Brazil/East;VALUE=DATE-TIME:20250512T200000
DTEND;TZID=Brazil/East;VALUE=DATE-TIME:20250512T223000
DTSTAMP;VALUE=DATE-TIME:20260424T022730Z
UID:d8a4487a4cda4752962ab38fa742a866@www.pontealtadonorte.sc.leg.br
CREATED;VALUE=DATE-TIME:20250512T123221Z
LAST-MODIFIED;VALUE=DATE-TIME:20250512T125043Z
URL:https://www.pontealtadonorte.sc.leg.br/institucional/eventos/sessao-da
 -camara-municipal
END:VEVENT
BEGIN:VTIMEZONE
TZID:Brazil/East
X-LIC-LOCATION:Brazil/East
BEGIN:STANDARD
DTSTART;VALUE=DATE-TIME:20250215T230000
TZNAME:BRT
TZOFFSETFROM:-0200
TZOFFSETTO:-0300
END:STANDARD
BEGIN:STANDARD
DTSTART;VALUE=DATE-TIME:20260221T230000
TZNAME:BRT
TZOFFSETFROM:-0200
TZOFFSETTO:-0300
END:STANDARD
END:VTIMEZONE
END:VCALENDAR
