BEGIN:VCALENDAR
VERSION:2.0
PRODID:-//Plone.org//NONSGML plone.app.event//EN
X-WR-TIMEZONE:Brazil/East
BEGIN:VEVENT
SUMMARY:Convenção MDB
DTSTART;TZID=Brazil/East;VALUE=DATE-TIME:20250515T190000
DTEND;TZID=Brazil/East;VALUE=DATE-TIME:20250515T203000
DTSTAMP;VALUE=DATE-TIME:20260424T021802Z
UID:3d1fae74289e4ca991fa25a66555428d@www.pontealtadonorte.sc.leg.br
CREATED;VALUE=DATE-TIME:20250512T124838Z
DESCRIPTION:Convenção Ordinária do MDB
LAST-MODIFIED;VALUE=DATE-TIME:20250512T125102Z
URL:https://www.pontealtadonorte.sc.leg.br/institucional/eventos/convencao
 -mdb
END:VEVENT
BEGIN:VTIMEZONE
TZID:Brazil/East
X-LIC-LOCATION:Brazil/East
BEGIN:STANDARD
DTSTART;VALUE=DATE-TIME:20250215T230000
TZNAME:BRT
TZOFFSETFROM:-0200
TZOFFSETTO:-0300
END:STANDARD
END:VTIMEZONE
END:VCALENDAR
